BEGIN:VCALENDAR
BEGIN:VEVENT
SUMMARY:ARRABBIATA: LY (FR)
DTSTART;TZID=Europe/Zurich:20261204T220000
DTEND;TZID=Europe/Zurich:20261205T040000
LOCATION:Case à Chocs\, Quai Philipe Godet 20\, 2000 Neuchâtel
URL:https://www.petzi.ch/it/events/63413-case-a-chocs-arrabbiata-ly-fr/
END:VEVENT
END:VCALENDAR
