BEGIN:VCALENDAR
BEGIN:VEVENT
SUMMARY:Sven Ivanić
DTSTART;TZID=Europe/Zurich:20270130T200000
DTEND;TZID=Europe/Zurich:20270131T020000
LOCATION:Kreuz Nidau\, Hauptstrasse 33\, 2560 Nidau
URL:https://www.petzi.ch/it/events/63408-kartellculturel-sven-ivanic/
END:VEVENT
END:VCALENDAR
