BEGIN:VCALENDAR
BEGIN:VEVENT
SUMMARY:FELHUR x ANDRO
DTSTART;TZID=Europe/Zurich:20261003T210000
DTEND;TZID=Europe/Zurich:20261004T030000
LOCATION:USINE À GAZ - SALLE 1\, Rue César Soulié 1\, 1260 Nyon
URL:https://www.petzi.ch/it/events/63405-usine-a-gaz-felhur-x-andro/
END:VEVENT
END:VCALENDAR
