BEGIN:VCALENDAR
BEGIN:VEVENT
SUMMARY:Free Quenzy Bash I Gaskessel Bern
DTSTART;TZID=Europe/Zurich:20260626T210000
DTEND;TZID=Europe/Zurich:20260627T030000
LOCATION:Gaskessel\, Sandrainstrasse 25\, 3007 Bern
URL:https://www.petzi.ch/it/events/63401-gaskessel-free-quenzy-bash-i-gask
 essel-bern/
END:VEVENT
END:VCALENDAR
