BEGIN:VCALENDAR
BEGIN:VEVENT
SUMMARY:To Athena
DTSTART;TZID=Europe/Zurich:20261127T203000
DTEND;TZID=Europe/Zurich:20261128T023000
LOCATION:Kuppel Basel\, Nachtigallenwäldeli 9\, 4051 Basel
URL:https://www.petzi.ch/it/events/63385-kuppel-to-athena/
END:VEVENT
END:VCALENDAR
