BEGIN:VCALENDAR
BEGIN:VEVENT
SUMMARY:Sexpubquiz "Absof*ckinglutely"
DTSTART;TZID=Europe/Zurich:20260604T190000
DTEND;TZID=Europe/Zurich:20260605T010000
LOCATION:Hirscheneck\, Lindenberg 23\, 4058 Basel
URL:https://www.petzi.ch/it/events/63383-hirscheneck-sexpubquiz-absofcking
 lutely/
END:VEVENT
END:VCALENDAR
