BEGIN:VCALENDAR
BEGIN:VEVENT
SUMMARY:Thrash. Death. Stoner. Une seule nuit
DTSTART;TZID=Europe/Zurich:20260619T203000
DTEND;TZID=Europe/Zurich:20260620T023000
LOCATION:NED MUSIC CLUB\, Rue du marché 19\, Rue du Marché 19\, 1820 Mon
 treux
URL:https://www.petzi.ch/it/events/63378-ned-music-club-thrash-death-stone
 r-une-seule-nuit/
END:VEVENT
END:VCALENDAR
