BEGIN:VCALENDAR
BEGIN:VEVENT
SUMMARY:SexPubQuiz – Absof*ckinglutely
DTSTART;TZID=Europe/Zurich:20260512T190000
DTEND;TZID=Europe/Zurich:20260513T010000
LOCATION:Rössli Bar - Verein Restaurant Sous Le Pont\, Neubrückstrasse 8
 \, 3001 Bern
URL:https://www.petzi.ch/it/events/63376-rossli-bar-verein-restaurant-sous
 -le-pont-sexpubquiz-absofckinglutely/
END:VEVENT
END:VCALENDAR
