BEGIN:VCALENDAR
BEGIN:VEVENT
SUMMARY:JWLES (FR) + AMIRAL (CH)
DTSTART;TZID=Europe/Zurich:20261120T200000
DTEND;TZID=Europe/Zurich:20261121T020000
LOCATION:Queen Kong Club\, Quai Philipe Godet 20\, 2000 Neuchâtel
URL:https://www.petzi.ch/it/events/63375-case-a-chocs-jwles-fr-amiral-ch/
END:VEVENT
END:VCALENDAR
