BEGIN:VCALENDAR
BEGIN:VEVENT
SUMMARY:RAH & THE RUFFCATS [DE] | Support: NAMAY KUSH [CH]
DTSTART;TZID=Europe/Zurich:20261009T203000
DTEND;TZID=Europe/Zurich:20261010T023000
LOCATION:TapTab\, Baumgartenstrasse 19\, 8200 Schaffhausen
URL:https://www.petzi.ch/it/events/63367-taptab-musikraum-rah-the-ruffcats
 -de-support-namay-kush-ch/
END:VEVENT
END:VCALENDAR
