BEGIN:VCALENDAR
BEGIN:VEVENT
SUMMARY:GOOD VIBEZ REGGAE NIGHT / SAMORA & BATIS3TA
DTSTART;TZID=Europe/Zurich:20261003T220000
DTEND;TZID=Europe/Zurich:20261004T040000
LOCATION:Grabenhalle\, Unterer Gaben 17\, 9004 St. Gallen
URL:https://www.petzi.ch/it/events/63364-grabenhalle-good-vibez-reggae-nig
 ht-samora-batis3ta/
END:VEVENT
END:VCALENDAR
