BEGIN:VCALENDAR
BEGIN:VEVENT
SUMMARY:Beat Affair
DTSTART;TZID=Europe/Zurich:20260522T210000
DTEND;TZID=Europe/Zurich:20260523T030000
LOCATION:Planet 5\, Hardturmstrasse 122a\, 8005 Zürich
URL:https://www.petzi.ch/it/events/63318-planet-5-beat-affair/
END:VEVENT
END:VCALENDAR
