BEGIN:VCALENDAR
BEGIN:VEVENT
SUMMARY:FRENCH 79 (FR)
DTSTART;TZID=Europe/Zurich:20270402T203000
DTEND;TZID=Europe/Zurich:20270403T023000
LOCATION:Docks\, Avenue de Sévelin 34\, 1004 Lausanne
URL:https://www.petzi.ch/it/events/63294-docks-french-79-fr/
END:VEVENT
END:VCALENDAR
