BEGIN:VCALENDAR
BEGIN:VEVENT
SUMMARY:Smif-n-Wessun + svmthox
DTSTART;TZID=Europe/Zurich:20260522T200000
DTEND;TZID=Europe/Zurich:20260523T020000
LOCATION:ISC\, Neubrückstrasse 10\, 3012 Bern
URL:https://www.petzi.ch/it/events/62668-isc-smif-n-wessun-svmthox/
END:VEVENT
END:VCALENDAR
