BEGIN:VCALENDAR
BEGIN:VEVENT
SUMMARY:Big-Thony - RABBeAT - Iridium
DTSTART;TZID=Europe/Zurich:20260520T200000
DTEND;TZID=Europe/Zurich:20260521T020000
LOCATION:Satellite\, Bâtiment CM EPFL\, Avenue Piccard\, 1015 Lausanne
URL:https://www.petzi.ch/it/events/62050-satellite-big-thony-rabbeat-iridi
 um/
END:VEVENT
END:VCALENDAR
