BEGIN:VCALENDAR
BEGIN:VEVENT
SUMMARY:THE AVENER (FR) + MIRLAQI (CH)
DTSTART;TZID=Europe/Zurich:20260425T201500
DTEND;TZID=Europe/Zurich:20260426T021500
LOCATION:Docks\, Avenue de Sévelin 34\, 1004 Lausanne
URL:https://www.petzi.ch/it/events/60856-docks-the-avener-fr-mirlaqi-ch/
END:VEVENT
END:VCALENDAR
