BEGIN:VCALENDAR
BEGIN:VEVENT
SUMMARY:MATZE ROSSI - «WUNDER.punkt» Album-Tour
DTSTART;TZID=Europe/Zurich:20251003T200000
DTEND;TZID=Europe/Zurich:20251004T020000
LOCATION:OldCapitol\, Spitalgasse 6\, 4900 Langenthal
URL:https://www.petzi.ch/it/events/60769-oldcapitol-matze-rossi-wunderpunk
 t-album-tour/
END:VEVENT
END:VCALENDAR
