BEGIN:VCALENDAR
BEGIN:VEVENT
SUMMARY:J’AI FAIM D’AMOUR MAIS JE PENSE QUE CA VA ÊTRE PLUS SIMPLE DE
  ME FAIRE DES PÂTES │Charlotte Riondel / Collectif Faune de Flèches
DTSTART;TZID=Europe/Zurich:20250321T203000
DTEND;TZID=Europe/Zurich:20250322T023000
LOCATION:Le Soleil - Centre culturel\, Marché-Concours 14\, 2350 Saignel
 égier
URL:https://www.petzi.ch/it/events/58237-le-soleil-centre-culturel-jai-fai
 m-damour-mais-je-pense-que-ca-va-etre-plus-simple-de-me-faire-des-pates-ch
 arlotte-riondel-collectif-faune-de-fleches/
END:VEVENT
END:VCALENDAR
