BEGIN:VCALENDAR
BEGIN:VEVENT
SUMMARY:Busted Head Racket & P.C.A
DTSTART;TZID=Europe/Zurich:20240505T200000
DTEND;TZID=Europe/Zurich:20240506T020000
LOCATION:Kulturraum Zentralwäscherei BESCHALLUNGSRAUM\, Neue Hard 12\, 80
 05 Zürich
URL:https://www.petzi.ch/it/events/55706-kulturraum-zentralwascherei-buste
 d-head-racket-pca/
END:VEVENT
END:VCALENDAR
