BEGIN:VCALENDAR
BEGIN:VEVENT
SUMMARY:Lulu & Die Einhornfarm
DTSTART;TZID=Europe/Zurich:20220421T203000
DTEND;TZID=Europe/Zurich:20220422T023000
LOCATION:Hirscheneck\, Lindenberg 23\, 4058 Basel
URL:https://www.petzi.ch/it/events/48875-hirscheneck-lulu-die-einhornfarm/
END:VEVENT
END:VCALENDAR
