BEGIN:VCALENDAR
BEGIN:VEVENT
SUMMARY:Groovadelic
DTSTART;TZID=Europe/Zurich:20181020T060000
DTEND;TZID=Europe/Zurich:20181020T120000
LOCATION:Zoo - Usine\, Place des Volontaires 4\, 1204 Genève
URL:https://www.petzi.ch/it/events/40150-zoo-usine-groovadelic/
END:VEVENT
END:VCALENDAR
