BEGIN:VCALENDAR
BEGIN:VEVENT
SUMMARY:DUB ARENA #19 by UBIK Sound System : Earth & Power ft. Ranking Fox
  + Fruit Records in Dub by Bat Records + UBIK Sound System ft. Young Kulch
 a
DTSTART;TZID=Europe/Zurich:20260522T230000
DTEND;TZID=Europe/Zurich:20260523T050000
LOCATION:Zoo - Usine\, Place des Volontaires 4\, 1204 Genève
URL:https://www.petzi.ch/fr/events/63417-zoo-usine-dub-arena-19-by-ubik-so
 und-system-earth-power-ft-ranking-fox-fruit-records-in-dub-by-bat-records-
 ubik-sound-system-ft-young-kulcha/
END:VEVENT
END:VCALENDAR
