BEGIN:VCALENDAR
BEGIN:VEVENT
SUMMARY:Openair St.Gallen Warmup
DTSTART;TZID=Europe/Zurich:20260501T210000
DTEND;TZID=Europe/Zurich:20260502T030000
LOCATION:Café Bar Treppenhaus\, Kirchstrasse 3\, 9400 Rorschach
URL:https://www.petzi.ch/fr/events/63416-verein-treppenhaus-openair-stgall
 en-warmup/
END:VEVENT
END:VCALENDAR
