BEGIN:VCALENDAR
BEGIN:VEVENT
SUMMARY:Moon Walker @ Gannet
DTSTART;TZID=Europe/Zurich:20261205T210000
DTEND;TZID=Europe/Zurich:20261206T030000
LOCATION:GANNET\, Holzpark Klybeck\, Uferstrasse 40\, 4057 Basel
URL:https://www.petzi.ch/fr/events/63412-gannet-moon-walker-gannet/
END:VEVENT
END:VCALENDAR
