BEGIN:VCALENDAR
BEGIN:VEVENT
SUMMARY:Calle Mambo + La Doce
DTSTART;TZID=Europe/Zurich:20261015T203000
DTEND;TZID=Europe/Zurich:20261016T023000
LOCATION:Nouveau Monde\, Gare 3\, 1700 Fribourg
URL:https://www.petzi.ch/fr/events/63410-nouveau-monde-calle-mambo-la-doce
 /
END:VEVENT
END:VCALENDAR
