BEGIN:VCALENDAR
BEGIN:VEVENT
SUMMARY:GVLLOW
DTSTART;TZID=Europe/Zurich:20261122T203000
DTEND;TZID=Europe/Zurich:20261123T023000
LOCATION:Rössli Bar - Verein Restaurant Sous Le Pont\, Neubrückstrasse 8
 \, 3001 Bern
URL:https://www.petzi.ch/fr/events/63404-rossli-bar-verein-restaurant-sous
 -le-pont-gvllow/
END:VEVENT
END:VCALENDAR
