BEGIN:VCALENDAR
BEGIN:VEVENT
SUMMARY:Dégustation de bière X BRASSERIE BLZ-COMPANY
DTSTART;TZID=Europe/Zurich:20260518T191500
DTEND;TZID=Europe/Zurich:20260519T011500
LOCATION:Satellite\, Bâtiment CM EPFL\, Avenue Piccard\, 1015 Lausanne
URL:https://www.petzi.ch/fr/events/63403-satellite-degustation-de-biere-x-
 brasserie-blz-company/
END:VEVENT
END:VCALENDAR
