BEGIN:VCALENDAR
BEGIN:VEVENT
SUMMARY:„Euphoric Utopias“ by: Cats Calling Back w/ Foncé\, Smuda & R
 aiging Moms
DTSTART;TZID=Europe/Zurich:20260605T200000
DTEND;TZID=Europe/Zurich:20260606T020000
LOCATION:Gaskessel\, Sandrainstrasse 25\, 3007 Bern
URL:https://www.petzi.ch/fr/events/63399-gaskessel-euphoric-utopias-by-cat
 s-calling-back-w-fonce-smuda-raiging-moms/
END:VEVENT
END:VCALENDAR
