BEGIN:VCALENDAR
BEGIN:VEVENT
SUMMARY:live: Hukedicht (Winterthur) und Monofones (Winterthur)
DTSTART;TZID=Europe/Zurich:20260508T220000
DTEND;TZID=Europe/Zurich:20260509T040000
LOCATION:Kraftfeld\, Lagerplatz 18\, 8400 Winterthur
URL:https://www.petzi.ch/fr/events/63392-kraftfeld-live-hukedicht-winterth
 ur-und-monofones-winterthur/
END:VEVENT
END:VCALENDAR
