BEGIN:VCALENDAR
BEGIN:VEVENT
SUMMARY:Pippo Pollina
DTSTART;TZID=Europe/Zurich:20261101T190000
DTEND;TZID=Europe/Zurich:20261102T010000
LOCATION:Kulturfabrik Kofmehl\, Kofmehlweg 1\, 4503 Solothurn
URL:https://www.petzi.ch/fr/events/63388-kulturfabrik-kofmehl-pippo-pollin
 a/
END:VEVENT
END:VCALENDAR
