BEGIN:VCALENDAR
BEGIN:VEVENT
SUMMARY:Backstreet Noise
DTSTART;TZID=Europe/Zurich:20260523T160000
DTEND;TZID=Europe/Zurich:20260523T220000
LOCATION:Kraftfeld\, Lagerplatz 18\, 8400 Winterthur
URL:https://www.petzi.ch/fr/events/63372-kraftfeld-backstreet-noise/
END:VEVENT
END:VCALENDAR
