BEGIN:VCALENDAR
BEGIN:VEVENT
SUMMARY:Wu Lyf (UK) & Support
DTSTART;TZID=Europe/Zurich:20261003T203000
DTEND;TZID=Europe/Zurich:20261004T023000
LOCATION:Bogen F\, Viaduktstrasse 97\, 8005 Zürich
URL:https://www.petzi.ch/fr/events/63371-bogen-f-wu-lyf-uk-support/
END:VEVENT
END:VCALENDAR
