BEGIN:VCALENDAR
BEGIN:VEVENT
SUMMARY:WHISPER IN THE NOISE FESTIVAL / NEWHVN (UK) & MATTERHURT (CH)
DTSTART;TZID=Europe/Zurich:20260607T200000
DTEND;TZID=Europe/Zurich:20260608T020000
LOCATION:Grabenhalle\, Unterer Gaben 17\, 9004 St. Gallen
URL:https://www.petzi.ch/fr/events/63369-grabenhalle-whisper-in-the-noise-
 festival-newhvn-uk-matterhurt-ch/
END:VEVENT
END:VCALENDAR
