BEGIN:VCALENDAR
BEGIN:VEVENT
SUMMARY:Brazen Barbie
DTSTART;TZID=Europe/Zurich:20261025T200000
DTEND;TZID=Europe/Zurich:20261026T020000
LOCATION:Treibhaus\, Spelteriniweg 4\, 6005 Luzern
URL:https://www.petzi.ch/fr/events/63268-treibhaus-brazen-barbie/
END:VEVENT
END:VCALENDAR
