BEGIN:VCALENDAR
BEGIN:VEVENT
SUMMARY:FINALS BA JAZZ: Grégoire Gedlek / PARA PARA
DTSTART;TZID=Europe/Zurich:20260601T200000
DTEND;TZID=Europe/Zurich:20260602T020000
LOCATION:Mehrspur\, Förrlibuckstrasse 109\, 8005 Zürich
URL:https://www.petzi.ch/fr/events/63042-mehrspur-finals-ba-jazz-gregoire-
 gedlek-para-para/
END:VEVENT
END:VCALENDAR
