BEGIN:VCALENDAR
BEGIN:VEVENT
SUMMARY:Wintersleep (CAN) & Support: Tobey Lucas & Band (CH)
DTSTART;TZID=Europe/Zurich:20260425T203000
DTEND;TZID=Europe/Zurich:20260426T023000
LOCATION:Bogen F\, Viaduktstrasse 97\, 8005 Zürich
URL:https://www.petzi.ch/fr/events/62881-bogen-f-wintersleep-can-support-t
 obey-lucas-band-ch/
END:VEVENT
END:VCALENDAR
