BEGIN:VCALENDAR
BEGIN:VEVENT
SUMMARY:War on Stage - Baby Neelou + beka + SupremNova
DTSTART;TZID=Europe/Zurich:20260509T210000
DTEND;TZID=Europe/Zurich:20260510T030000
LOCATION:Le Port Franc\, Route de Riddes 85\, 1950 Sion
URL:https://www.petzi.ch/fr/events/62830-le-port-franc-war-on-stage-baby-n
 eelou-beka-supremnova/
END:VEVENT
END:VCALENDAR
