BEGIN:VCALENDAR
BEGIN:VEVENT
SUMMARY:District Five (CH) / Support: Naima Soley (CH/GN)
DTSTART;TZID=Europe/Zurich:20260425T210000
DTEND;TZID=Europe/Zurich:20260426T030000
LOCATION:Palace\, Zwinglistrasse 3\, 9004 St. Gallen
URL:https://www.petzi.ch/fr/events/62592-palace-district-five-ch-support-n
 aima-soley-chgn/
END:VEVENT
END:VCALENDAR
