BEGIN:VCALENDAR
BEGIN:VEVENT
SUMMARY:SILVANA ESTRADA (MX) + SOFI PAEZ (CR)
DTSTART;TZID=Europe/Zurich:20260513T203000
DTEND;TZID=Europe/Zurich:20260514T023000
LOCATION:Docks\, Avenue de Sévelin 34\, 1004 Lausanne
URL:https://www.petzi.ch/fr/events/62417-docks-silvana-estrada-mx-sofi-pae
 z-cr/
END:VEVENT
END:VCALENDAR
