BEGIN:VCALENDAR
BEGIN:VEVENT
SUMMARY:Reset
DTSTART;TZID=Europe/Zurich:20260522T230000
DTEND;TZID=Europe/Zurich:20260523T050000
LOCATION:Kraftfeld\, Lagerplatz 18\, 8400 Winterthur
URL:https://www.petzi.ch/en/events/63418-kraftfeld-reset/
END:VEVENT
END:VCALENDAR
