BEGIN:VCALENDAR
BEGIN:VEVENT
SUMMARY:Dubtopia: Joe Nice\, Bleach\, Cutkachi\, Redubtion Soundsystem
DTSTART;TZID=Europe/Zurich:20260606T223000
DTEND;TZID=Europe/Zurich:20260607T043000
LOCATION:Dachstock\, Schützenmatte Neubrückstrasse 8\, 3001 Bern
URL:https://www.petzi.ch/en/events/63415-dachstock-dubtopia-joe-nice-bleac
 h-cutkachi-redubtion-soundsystem/
END:VEVENT
END:VCALENDAR
