BEGIN:VCALENDAR
BEGIN:VEVENT
SUMMARY:Mirakolo
DTSTART;TZID=Europe/Zurich:20261127T210000
DTEND;TZID=Europe/Zurich:20261128T030000
LOCATION:Le Singe\, Untergasse 21\, 2502 Bienne-Biel
URL:https://www.petzi.ch/en/events/63409-kartellculturel-mirakolo/
END:VEVENT
END:VCALENDAR
