BEGIN:VCALENDAR
BEGIN:VEVENT
SUMMARY:Disney Party
DTSTART;TZID=Europe/Zurich:20260508T220000
DTEND;TZID=Europe/Zurich:20260509T040000
LOCATION:KUFA\, Werdtstrasse 17\, 3250 Lyss
URL:https://www.petzi.ch/en/events/63407-kufa-disney-party/
END:VEVENT
END:VCALENDAR
