BEGIN:VCALENDAR
BEGIN:VEVENT
SUMMARY:Divercity Daydance
DTSTART;TZID=Europe/Zurich:20260606T160000
DTEND;TZID=Europe/Zurich:20260606T220000
LOCATION:Werkk Kulturlokal\, Schmiedestrasse 1\, 5400 Baden
URL:https://www.petzi.ch/en/events/63402-werkk-kulturlokal-baden-divercity
 -daydance/
END:VEVENT
END:VCALENDAR
