BEGIN:VCALENDAR
BEGIN:VEVENT
SUMMARY:Babylon Joke (FR) + Djnee (FR) + LofiYova (CH) + Splon3d (CH)
DTSTART;TZID=Europe/Zurich:20260522T230000
DTEND;TZID=Europe/Zurich:20260523T050000
LOCATION:Rocking Chair\, Gilamont 60\, 1800 Vevey
URL:https://www.petzi.ch/en/events/63400-rocking-chair-babylon-joke-fr-djn
 ee-fr-lofiyova-ch-splon3d-ch/
END:VEVENT
END:VCALENDAR
