BEGIN:VCALENDAR
BEGIN:VEVENT
SUMMARY:VERNISSAGE LIVE! x STONE PIXELS : DISTRICT FIVE [CH]
DTSTART;TZID=Europe/Zurich:20260521T210000
DTEND;TZID=Europe/Zurich:20260522T030000
LOCATION:La Gravière\, 9\, chemin de la Gravière\, 1227 Les Acacias-Gen
 ève
URL:https://www.petzi.ch/en/events/63398-la-graviere-vernissage-live-x-sto
 ne-pixels-district-five-ch/
END:VEVENT
END:VCALENDAR
