BEGIN:VCALENDAR
BEGIN:VEVENT
SUMMARY:Atlas (FI) // Sunborn (FR)
DTSTART;TZID=Europe/Zurich:20260905T210000
DTEND;TZID=Europe/Zurich:20260906T030000
LOCATION:Gaswerk\, Untere Schoentalstrasse\, 8406 Winterthur
URL:https://www.petzi.ch/en/events/63396-gaswerk-atlas-fi-sunborn-fr/
END:VEVENT
END:VCALENDAR
