BEGIN:VCALENDAR
BEGIN:VEVENT
SUMMARY:TapTab Sonidero präsentiert COSMICA BANDIDA [COL]
DTSTART;TZID=Europe/Zurich:20260926T213000
DTEND;TZID=Europe/Zurich:20260927T033000
LOCATION:TapTab\, Baumgartenstrasse 19\, 8200 Schaffhausen
URL:https://www.petzi.ch/en/events/63394-taptab-musikraum-taptab-sonidero-
 prasentiert-cosmica-bandida-col/
END:VEVENT
END:VCALENDAR
