BEGIN:VCALENDAR
BEGIN:VEVENT
SUMMARY:Sound & Culture #11 with MIGHTY WARRIOR (CH) + KALABRAY (CH)
DTSTART;TZID=Europe/Zurich:20260509T210000
DTEND;TZID=Europe/Zurich:20260510T030000
LOCATION:Ebullition\, Rue de Vevey 34\, 1630 Bulle
URL:https://www.petzi.ch/en/events/63389-ebullition-sound-culture-11-with-
 mighty-warrior-ch-kalabray-ch/
END:VEVENT
END:VCALENDAR
