BEGIN:VCALENDAR
BEGIN:VEVENT
SUMMARY:Kreativ. Frei. Bunt.
DTSTART;TZID=Europe/Zurich:20260502T160000
DTEND;TZID=Europe/Zurich:20260502T220000
LOCATION:Flösserplatz\, Flösserstrasse 7\, 5000 Aarau
URL:https://www.petzi.ch/en/events/63386-flosserplatz-kreativ-frei-bunt/
END:VEVENT
END:VCALENDAR
